BEGIN:VCALENDAR
VERSION:2.0
PRODID:-//Neilson Creek Co-operative - ECPv6.15.20//NONSGML v1.0//EN
CALSCALE:GREGORIAN
METHOD:PUBLISH
X-WR-CALNAME:Neilson Creek Co-operative
X-ORIGINAL-URL:https://neilsoncreek.com
X-WR-CALDESC:Events for Neilson Creek Co-operative
REFRESH-INTERVAL;VALUE=DURATION:PT1H
X-Robots-Tag:noindex
X-PUBLISHED-TTL:PT1H
BEGIN:VTIMEZONE
TZID:America/Toronto
BEGIN:DAYLIGHT
TZOFFSETFROM:-0500
TZOFFSETTO:-0400
TZNAME:EDT
DTSTART:20140309T070000
END:DAYLIGHT
BEGIN:STANDARD
TZOFFSETFROM:-0400
TZOFFSETTO:-0500
TZNAME:EST
DTSTART:20141102T060000
END:STANDARD
BEGIN:DAYLIGHT
TZOFFSETFROM:-0500
TZOFFSETTO:-0400
TZNAME:EDT
DTSTART:20150308T070000
END:DAYLIGHT
BEGIN:STANDARD
TZOFFSETFROM:-0400
TZOFFSETTO:-0500
TZNAME:EST
DTSTART:20151101T060000
END:STANDARD
BEGIN:DAYLIGHT
TZOFFSETFROM:-0500
TZOFFSETTO:-0400
TZNAME:EDT
DTSTART:20160313T070000
END:DAYLIGHT
BEGIN:STANDARD
TZOFFSETFROM:-0400
TZOFFSETTO:-0500
TZNAME:EST
DTSTART:20161106T060000
END:STANDARD
END:VTIMEZONE
BEGIN:VEVENT
DTSTART;TZID=America/Toronto:20151208T190000
DTEND;TZID=America/Toronto:20151208T210000
DTSTAMP:20260422T082021
CREATED:20151204T040024Z
LAST-MODIFIED:20151204T030625Z
UID:1807-1449601200-1449608400@neilsoncreek.com
SUMMARY:Newsletter Committee Open House
DESCRIPTION:The Newsletter Committee is looking for new Members and invites you to come out to their Free Pizza Dinner on December 8\, 2015 at 7:00pm. \nThe Newsletter Committee meets regularly to discuss new ideas\, assemble and distribute quarterly newsletters to Neilson Creek. \nThe Neilson Creek Newsletter called “Ripples of the Creek”\, published every quarter recognizes our youth for their achievements\, Co-op new\, puzzles\, recipes and a Special Feature called\, “Critter of the Creek” which recognizes a special pet that lives in the Co-op. The newsletter is delivered to each household’s mailbox and published online on our website. Click Here to see our previous Newsletters. \nPlease join us for a free pizza dinner on December 8\, 2015 at 7:00pm.
URL:https://neilsoncreek.com/event/newsletter-committee-open-house/
LOCATION:Co-op Office Board Room
CATEGORIES:Committee Events/Meetings
END:VEVENT
END:VCALENDAR